BEGIN:VCALENDAR
VERSION:2.0
PRODID:-//Khoury College of Computer Sciences - ECPv6.15.20//NONSGML v1.0//EN
CALSCALE:GREGORIAN
METHOD:PUBLISH
X-WR-CALNAME:Khoury College of Computer Sciences
X-ORIGINAL-URL:https://staging.khoury.northeastern.edu
X-WR-CALDESC:Events for Khoury College of Computer Sciences
REFRESH-INTERVAL;VALUE=DURATION:PT1H
X-Robots-Tag:noindex
X-PUBLISHED-TTL:PT1H
BEGIN:VTIMEZONE
TZID:America/New_York
BEGIN:DAYLIGHT
TZOFFSETFROM:-0500
TZOFFSETTO:-0400
TZNAME:EDT
DTSTART:20250309T070000
END:DAYLIGHT
BEGIN:STANDARD
TZOFFSETFROM:-0400
TZOFFSETTO:-0500
TZNAME:EST
DTSTART:20251102T060000
END:STANDARD
BEGIN:DAYLIGHT
TZOFFSETFROM:-0500
TZOFFSETTO:-0400
TZNAME:EDT
DTSTART:20260308T070000
END:DAYLIGHT
BEGIN:STANDARD
TZOFFSETFROM:-0400
TZOFFSETTO:-0500
TZNAME:EST
DTSTART:20261101T060000
END:STANDARD
BEGIN:DAYLIGHT
TZOFFSETFROM:-0500
TZOFFSETTO:-0400
TZNAME:EDT
DTSTART:20270314T070000
END:DAYLIGHT
BEGIN:STANDARD
TZOFFSETFROM:-0400
TZOFFSETTO:-0500
TZNAME:EST
DTSTART:20271107T060000
END:STANDARD
END:VTIMEZONE
BEGIN:VEVENT
DTSTART;TZID=America/New_York:20260520T120000
DTEND;TZID=America/New_York:20260520T130000
DTSTAMP:20260424T204449
CREATED:20250509T153451Z
LAST-MODIFIED:20260417T161355Z
UID:10006388-1779278400-1779282000@staging.khoury.northeastern.edu
SUMMARY:Prospective Master’s Student Drop-in Session
DESCRIPTION:Register now\n\n\n\n\nAttend a drop-in session to ask any questions you have about your application\, career interest\, personal goals\, next steps\, and more! This informal session is a great opportunity to connect with our enrollment team and our current student ambassadors. Bring your questions\, we have answers! \n\n\n\nDuring this session you will be able to: \n\n\n\n\nHear more about the master’s programs at Khoury\n\n\n\nLearn more about the admissions process including application requirements\n\n\n\nReview deadlines and start terms for Spring and Fall\n\n\n\n\nThis event is virtual. Register today to receive your link to join! \n\n\n\n\nRegister now\n\n\n\n\nQuestions? Email khoury-prospect@northeastern.edu.
URL:https://staging.khoury.northeastern.edu/event/prospective-masters-student-drop-in-session-17/
END:VEVENT
BEGIN:VEVENT
DTSTART;TZID=America/New_York:20260617T120000
DTEND;TZID=America/New_York:20260617T130000
DTSTAMP:20260424T204449
CREATED:20250509T153620Z
LAST-MODIFIED:20250509T153624Z
UID:10006389-1781697600-1781701200@staging.khoury.northeastern.edu
SUMMARY:Prospective Master’s Student Drop-in Session
DESCRIPTION:Register now\n\n\n\n\nAttend a drop-in session to ask any questions you have about your application\, career interest\, personal goals\, next steps\, and more! This informal session is a great opportunity to connect with our enrollment team and our current student ambassadors. Bring your questions\, we have answers! \n\n\n\nDuring this session you will be able to: \n\n\n\n\nHear more about the master’s programs at Khoury\n\n\n\nLearn more about the admissions process including application requirements\n\n\n\nReview deadlines and start terms for Spring and Fall\n\n\n\n\nThis event is virtual. Register today to receive your link to join! \n\n\n\n\nRegister now\n\n\n\n\nQuestions? Email khoury-prospect@northeastern.edu.
URL:https://staging.khoury.northeastern.edu/event/prospective-masters-student-drop-in-session-18/
END:VEVENT
BEGIN:VEVENT
DTSTART;TZID=America/New_York:20260715T120000
DTEND;TZID=America/New_York:20260715T130000
DTSTAMP:20260424T204449
CREATED:20250509T153748Z
LAST-MODIFIED:20250509T153755Z
UID:10006390-1784116800-1784120400@staging.khoury.northeastern.edu
SUMMARY:Prospective Master’s Student Drop-in Session
DESCRIPTION:Register now\n\n\n\n\nAttend a drop-in session to ask any questions you have about your application\, career interest\, personal goals\, next steps\, and more! This informal session is a great opportunity to connect with our enrollment team and our current student ambassadors. Bring your questions\, we have answers! \n\n\n\nDuring this session you will be able to: \n\n\n\n\nHear more about the master’s programs at Khoury\n\n\n\nLearn more about the admissions process including application requirements\n\n\n\nReview deadlines and start terms for Spring and Fall\n\n\n\n\nThis event is virtual. Register today to receive your link to join! \n\n\n\n\nRegister now\n\n\n\n\nQuestions? Email khoury-prospect@northeastern.edu.
URL:https://staging.khoury.northeastern.edu/event/prospective-masters-student-drop-in-session-19/
END:VEVENT
BEGIN:VEVENT
DTSTART;TZID=America/New_York:20260819T120000
DTEND;TZID=America/New_York:20260819T130000
DTSTAMP:20260424T204449
CREATED:20250509T153911Z
LAST-MODIFIED:20250509T153913Z
UID:10006391-1787140800-1787144400@staging.khoury.northeastern.edu
SUMMARY:Prospective Master’s Student Drop-in Session
DESCRIPTION:Register now\n\n\n\n\nAttend a drop-in session to ask any questions you have about your application\, career interest\, personal goals\, next steps\, and more! This informal session is a great opportunity to connect with our enrollment team and our current student ambassadors. Bring your questions\, we have answers! \n\n\n\nDuring this session you will be able to: \n\n\n\n\nHear more about the master’s programs at Khoury\n\n\n\nLearn more about the admissions process including application requirements\n\n\n\nReview deadlines and start terms for Spring and Fall\n\n\n\n\nThis event is virtual. Register today to receive your link to join! \n\n\n\n\nRegister now\n\n\n\n\nQuestions? Email khoury-prospect@northeastern.edu.
URL:https://staging.khoury.northeastern.edu/event/prospective-masters-student-drop-in-session-20/
END:VEVENT
END:VCALENDAR